BEGIN:VCALENDAR
VERSION:2.0
PRODID:-//plazasatelite//EN
CALSCALE:GREGORIAN
BEGIN:VEVENT
UID:evento-10126@plazasatelite
DTSTAMP:20260421T123401Z
DTSTART:20260430T170000
DTEND:20260430T170000
SUMMARY:DINOROCKERS
DESCRIPTION:Vive una presentación musical llena de ritmo y energía para celebrar el Día del Niño con toda la familia. 📍Plaza Central (Nivel 2)
END:VEVENT
END:VCALENDAR
