BEGIN:VCALENDAR
VERSION:2.0
PRODID:-//plazasatelite//EN
CALSCALE:GREGORIAN
BEGIN:VEVENT
UID:evento-10168@plazasatelite
DTSTAMP:20260424T143411Z
DTSTART:20260425T094000
DTEND:20260425T094000
SUMMARY:CLARINS
DESCRIPTION:Clase de Barre con Karen Cassis Vive una experiencia llena de energía. Celebra nuestro nuevo lanzamiento y descubre su poder mientras conectas contigo misma. iTE ESPERAMOS! Sábado 25 de abril | 9:40 AM Sears Satélite 📍Jardín frente a SEARS. Confirma tu asistencia: 5514954316 Regalo disponible al asistir al evento. Cupo limitado a 10 personas.
END:VEVENT
END:VCALENDAR
