BEGIN:VCALENDAR
VERSION:2.0
PRODID:-//plazasatelite//EN
CALSCALE:GREGORIAN
BEGIN:VEVENT
UID:evento-10178@plazasatelite
DTSTAMP:20260424T142616Z
DTSTART:20260426T130000
DTEND:20260426T170000
SUMMARY:SKECHERS Y SEARS
DESCRIPTION:
END:VEVENT
END:VCALENDAR
