BEGIN:VCALENDAR
VERSION:2.0
PRODID:-//plazasatelite//EN
CALSCALE:GREGORIAN
BEGIN:VEVENT
UID:evento-7976@plazasatelite
DTSTAMP:20260422T085341Z
DTSTART:20251017T150000
DTEND:20251017T150000
SUMMARY:Taller de Tote Bags Personalizadas
DESCRIPTION:Taller de Tote Bags Personalizadas El 17 de octubre a las 3:00 p.m. en Prosecco, participa en un taller creativo guiado por FIX Aerógrafo, donde podrás diseñar y personalizar tu propia tote bag con tu estilo y colores favoritos. Una experiencia única para expresar tu personalidad, dejar volar la imaginación y llevarte a casa una pieza [&hellip;]
LOCATION:Prosecco
END:VEVENT
END:VCALENDAR
